BEGIN:VCALENDAR
VERSION:2.0
PRODID:-//OneGov//onegov.event//
BEGIN:VEVENT
SUMMARY:Notfälle bei Kleinkinder Kurs Teil 1
DTSTART:20261028T180000Z
DTEND:20261028T200000Z
DTSTAMP:20251216T074730Z
UID:notfaelle-bei-kleinkinder-kurs-teil-1-2026-10-28@onegov.event
CATEGORIES:
DESCRIPTION:
LAST-MODIFIED:20251216T074730Z
LOCATION:Mehrzweckraum Schulhaus Boswil
URL:https://www.besenbueren.ch/event/notfaelle-bei-kleinkinder-kurs-teil-1
 -2026-10-28
END:VEVENT
END:VCALENDAR
