BEGIN:VCALENDAR
VERSION:2.0
PRODID:-//OneGov//onegov.event//
BEGIN:VEVENT
SUMMARY:Nothilfekurs für Führerausweiserwerbende
DTSTART:20230114T070000Z
DTEND:20230114T150000Z
DTSTAMP:20221010T070418Z
UID:nothilfekurs-fuer-fuehrerausweiserwerbende-1-2023-01-14@onegov.event
CATEGORIES:Misc,Health,Meetup,Education
DESCRIPTION:Anmeldung für den Kurs via Vereinshomepage.\nwww.samariter-bo
 swil.ch\nDer Kurs dauert am Freitag von 19-22 Uhr\, sowie am Samstag von 0
 8-16 Uhr.
LAST-MODIFIED:20221010T070418Z
LOCATION:Mehrzweckraum Schulhaus Boswil
URL:https://www.besenbueren.ch/event/nothilfekurs-fuer-fuehrerausweiserwer
 bende-1-2023-01-14
END:VEVENT
END:VCALENDAR
