BEGIN:VCALENDAR
VERSION:2.0
PRODID:-//OneGov//onegov.event//
BEGIN:VEVENT
SUMMARY:Nothilfekurs (für Führerausweiserwerbende)
DTSTART:20260109T180000Z
DTEND:20260109T210000Z
DTSTAMP:20251103T084740Z
UID:nothilfekurs-fuer-fuehrerausweiserwerbende-4-2026-01-09@onegov.event
CATEGORIES:Misc,Health,Meetup
DESCRIPTION:
LAST-MODIFIED:20251103T084740Z
LOCATION:Mehrzweckraum Schulhaus Boswil
URL:https://www.besenbueren.ch/event/nothilfekurs-fuer-fuehrerausweiserwer
 bende-4-2026-01-09
END:VEVENT
END:VCALENDAR
