BEGIN:VCALENDAR
VERSION:2.0
PRODID:-//OneGov//onegov.event//
BEGIN:VEVENT
SUMMARY:Ortsbürgergemeindeversammlung vom 18. November 2026
DTSTART:20261118T183000Z
DTEND:20261118T213000Z
DTSTAMP:20250917T064017Z
UID:ortsbuergergemeindeversammlung-vom-18-november-2026-2026-11-18@onegov.
 event
CATEGORIES:
DESCRIPTION:
LAST-MODIFIED:20250917T064017Z
LOCATION:Waldhaus Breithau
URL:https://www.besenbueren.ch/event/ortsbuergergemeindeversammlung-vom-18
 -november-2026-2026-11-18
END:VEVENT
END:VCALENDAR
