BEGIN:VCALENDAR
VERSION:2.0
PRODID:-//OneGov//onegov.event//
BEGIN:VEVENT
SUMMARY:Palmen- und Chörbli basteln 
DTSTART:20260328T070000Z
DTEND:20260328T140000Z
DTSTAMP:20251027T090311Z
UID:palmen-und-choerbli-basteln-1-2026-03-28@onegov.event
CATEGORIES:Youth,Religion
DESCRIPTION:
LAST-MODIFIED:20251027T090311Z
LOCATION:Pfarrsaal Boswil
URL:https://www.besenbueren.ch/event/palmen-und-choerbli-basteln-1-2026-03
 -28
END:VEVENT
END:VCALENDAR
