BEGIN:VCALENDAR
VERSION:2.0
PRODID:-//OneGov//onegov.event//
BEGIN:VEVENT
SUMMARY:Palmsonntag in Bünzen
DTSTART:20260329T070000Z
DTEND:20260329T080000Z
DTSTAMP:20251027T090108Z
UID:palmsonntag-in-buenzen-1-2026-03-29@onegov.event
CATEGORIES:Religion
DESCRIPTION:
LAST-MODIFIED:20251027T090108Z
LOCATION:Pfarrkirche Bünzen
URL:https://www.besenbueren.ch/event/palmsonntag-in-buenzen-1-2026-03-29
END:VEVENT
END:VCALENDAR
