BEGIN:VCALENDAR
VERSION:2.0
PRODID:-//OneGov//onegov.event//
BEGIN:VEVENT
SUMMARY:Räbeliechtliumzug
DTSTART:20261102T171500Z
DTEND:20261102T190000Z
DTSTAMP:20251027T090153Z
UID:raebeliechtliumzug-5-2026-11-02@onegov.event
CATEGORIES:
DESCRIPTION:
LAST-MODIFIED:20251027T090153Z
LOCATION:Feuerwehrmagazin und Dorf
URL:https://www.besenbueren.ch/event/raebeliechtliumzug-5-2026-11-02
END:VEVENT
END:VCALENDAR
