BEGIN:VCALENDAR
VERSION:2.0
PRODID:-//OneGov//onegov.event//
BEGIN:VEVENT
SUMMARY:Rekrutierungsabend
DTSTART:20261112T190000Z
DTEND:20261112T210000Z
DTSTAMP:20251103T101522Z
UID:rekrutierungsabend-3-2026-11-12@onegov.event
CATEGORIES:
DESCRIPTION:
LAST-MODIFIED:20251103T101522Z
LOCATION:Feuerwehrmagazin
URL:https://www.besenbueren.ch/event/rekrutierungsabend-3-2026-11-12
END:VEVENT
END:VCALENDAR
