BEGIN:VCALENDAR
VERSION:2.0
PRODID:-//OneGov//onegov.event//
BEGIN:VEVENT
SUMMARY:Seniorenbescherung
DTSTART:20261201T080000Z
DTEND:20261201T160000Z
DTSTAMP:20251027T090138Z
UID:seniorenbescherung-5-2026-12-01@onegov.event
CATEGORIES:
DESCRIPTION:
LAST-MODIFIED:20251027T090138Z
LOCATION:Ganzes Dorf
URL:https://www.besenbueren.ch/event/seniorenbescherung-5-2026-12-01
END:VEVENT
END:VCALENDAR
