BEGIN:VCALENDAR
VERSION:2.0
PRODID:-//OneGov//onegov.event//
BEGIN:VEVENT
SUMMARY:Seniorenbescherungen
DTSTART:20201130T230000Z
DTEND:20201231T225900Z
DTSTAMP:20200730T143810Z
UID:seniorenbescherungen-2020-11-30@onegov.event
CATEGORIES:
DESCRIPTION:Seniorenbescherungen (ganzer Dezember)
LAST-MODIFIED:20200730T143810Z
LOCATION:offen
URL:https://www.besenbueren.ch/event/seniorenbescherungen-2020-11-30
END:VEVENT
END:VCALENDAR
