BEGIN:VCALENDAR
VERSION:2.0
PRODID:-//OneGov//onegov.event//
BEGIN:VEVENT
SUMMARY:Tag der Pausenmilch
DTSTART:20261029T084500Z
DTEND:20261029T091500Z
DTSTAMP:20251027T090157Z
UID:tag-der-pausenmilch-2026-10-29@onegov.event
CATEGORIES:
DESCRIPTION:
LAST-MODIFIED:20251027T090157Z
LOCATION:Schulhaus Besenbüren
URL:https://www.besenbueren.ch/event/tag-der-pausenmilch-2026-10-29
END:VEVENT
END:VCALENDAR
