BEGIN:VCALENDAR
VERSION:2.0
PRODID:-//OneGov//onegov.event//
BEGIN:VEVENT
SUMMARY:Training 300m
DTSTART:20260624T163000Z
DTEND:20260624T173000Z
DTSTAMP:20251105T081500Z
UID:training-300m-26-2026-06-24@onegov.event
CATEGORIES:
DESCRIPTION:
LAST-MODIFIED:20251105T081500Z
LOCATION:Schützenhaus Rottenschwil
URL:https://www.besenbueren.ch/event/training-300m-26-2026-06-24
END:VEVENT
END:VCALENDAR
