BEGIN:VCALENDAR
VERSION:2.0
PRODID:-//OneGov//onegov.event//
BEGIN:VEVENT
SUMMARY:Training 300m
DTSTART:20260909T163000Z
DTEND:20260909T173000Z
DTSTAMP:20251105T081414Z
UID:training-300m-28-2026-09-09@onegov.event
CATEGORIES:
DESCRIPTION:
LAST-MODIFIED:20251105T081414Z
LOCATION:Schützenhaus Rottenschwil
URL:https://www.besenbueren.ch/event/training-300m-28-2026-09-09
END:VEVENT
END:VCALENDAR
