BEGIN:VCALENDAR
VERSION:2.0
PRODID:-//OneGov//onegov.event//
BEGIN:VEVENT
SUMMARY:Vereinsabend
DTSTART:20260424T170000Z
DTEND:20260424T220000Z
DTSTAMP:20251027T090225Z
UID:vereinsabend-5-2026-04-24@onegov.event
CATEGORIES:
DESCRIPTION:
LAST-MODIFIED:20251027T090225Z
LOCATION:Noch offen
URL:https://www.besenbueren.ch/event/vereinsabend-5-2026-04-24
END:VEVENT
END:VCALENDAR
