BEGIN:VCALENDAR
VERSION:2.0
PRODID:-//OneGov//onegov.event//
BEGIN:VEVENT
SUMMARY:Vereinsaussprache
DTSTART:20261104T183000Z
DTEND:20261104T220000Z
DTSTAMP:20251201T143000Z
UID:vereinsaussprache-6-2026-11-04@onegov.event
CATEGORIES:
DESCRIPTION:
LAST-MODIFIED:20251201T143000Z
LOCATION:zu Bestimmen
URL:https://www.besenbueren.ch/event/vereinsaussprache-6-2026-11-04
END:VEVENT
END:VCALENDAR
