BEGIN:VCALENDAR
VERSION:2.0
PRODID:-//OneGov//onegov.event//
BEGIN:VEVENT
SUMMARY:Vorständeschiessen
DTSTART:20261127T230000Z
DTEND:20261128T230000Z
DTSTAMP:20251105T081434Z
UID:vorstaendeschiessen-1-2026-11-27@onegov.event
CATEGORIES:
DESCRIPTION:
LAST-MODIFIED:20251105T081434Z
LOCATION:FSG Waltenschwil SP Bremgarten
URL:https://www.besenbueren.ch/event/vorstaendeschiessen-1-2026-11-27
END:VEVENT
END:VCALENDAR
