BEGIN:VCALENDAR
VERSION:2.0
PRODID:-//OneGov//onegov.event//
BEGIN:VEVENT
SUMMARY:Waldtag
DTSTART:20260829T080000Z
DTEND:20260829T140000Z
DTSTAMP:20251027T090202Z
UID:waldtag-1-2026-08-29@onegov.event
CATEGORIES:
DESCRIPTION:
LAST-MODIFIED:20251027T090202Z
LOCATION:Waldhaus Besenbüren
URL:https://www.besenbueren.ch/event/waldtag-1-2026-08-29
END:VEVENT
END:VCALENDAR
