BEGIN:VCALENDAR
VERSION:2.0
PRODID:-//OneGov//onegov.event//
BEGIN:VEVENT
SUMMARY:Waldumgang vom 30. Mai 2026
DTSTART:20260530T113000Z
DTEND:20260530T160000Z
DTSTAMP:20251201T161754Z
UID:waldumgang-vom-30-mai-2026-2026-05-30@onegov.event
CATEGORIES:
DESCRIPTION:
LAST-MODIFIED:20251201T161754Z
LOCATION:Waldhaus Breithau
URL:https://www.besenbueren.ch/event/waldumgang-vom-30-mai-2026-2026-05-30
END:VEVENT
END:VCALENDAR
