BEGIN:VCALENDAR
VERSION:2.0
PRODID:-//OneGov//onegov.event//
BEGIN:VEVENT
SUMMARY:Fondueplausch Jungwacht und Blauring Boswil
DTSTART:20261204T070000Z
DTEND:20261204T160000Z
DTSTAMP:20251027T090249Z
UID:fondueplausch-jungwacht-und-blauring-boswil-2026-12-04@onegov.event
CATEGORIES:Meetup,Gastronomy
DESCRIPTION:
LAST-MODIFIED:20251027T090249Z
LOCATION:Pfarrsaal Boswil
URL:https://www.besenbueren.ch/event-management/fondueplausch-jungwacht-un
 d-blauring-boswil
END:VEVENT
BEGIN:VEVENT
SUMMARY:Fondueplausch Jungwacht und Blauring Boswil
DTSTART:20261205T070000Z
DTEND:20261205T160000Z
DTSTAMP:20251027T090249Z
UID:fondueplausch-jungwacht-und-blauring-boswil-2026-12-05@onegov.event
CATEGORIES:Meetup,Gastronomy
DESCRIPTION:
LAST-MODIFIED:20251027T090249Z
LOCATION:Pfarrsaal Boswil
URL:https://www.besenbueren.ch/event-management/fondueplausch-jungwacht-un
 d-blauring-boswil
END:VEVENT
BEGIN:VEVENT
SUMMARY:Fondueplausch Jungwacht und Blauring Boswil
DTSTART:20261206T070000Z
DTEND:20261206T160000Z
DTSTAMP:20251027T090249Z
UID:fondueplausch-jungwacht-und-blauring-boswil-2026-12-06@onegov.event
CATEGORIES:Meetup,Gastronomy
DESCRIPTION:
LAST-MODIFIED:20251027T090249Z
LOCATION:Pfarrsaal Boswil
URL:https://www.besenbueren.ch/event-management/fondueplausch-jungwacht-un
 d-blauring-boswil
END:VEVENT
END:VCALENDAR
